BEGIN:VCALENDAR
VERSION:2.0
PRODID:-//eventon.com NONSGML v1.0//EN
CALSCALE:GREGORIAN
METHOD:PUBLISH
BEGIN:VEVENT
UID:69e57da59c77e
DTSTAMP:20260420T011309Z
DTSTART:20260420T080000Z
DTEND:20260420T113000Z
LOCATION:Benowa Tavern 117 Ashmore Rd\,  Benowa\,  QLD\,  4217
SUMMARY:Benowa Tavern Tournament
DESCRIPTION:\nhttps://gcbgc.com.au/events/benowa-tavern-tournament/var/ri-1
 5.l-L1
URL:https://gcbgc.com.au/events/benowa-tavern-tournament/var/ri-15.l-L1
END:VEVENT
END:VCALENDAR