BEGIN:VCALENDAR
VERSION:2.0
PRODID:-//eventon.com NONSGML v1.0//EN
CALSCALE:GREGORIAN
METHOD:PUBLISH
BEGIN:VEVENT
UID:69eb3a48d8352
DTSTAMP:20260424T093920Z
DTSTART:20260427T080000Z
DTEND:20260427T113000Z
LOCATION:Benowa Tavern 117 Ashmore Rd\,  Benowa\,  QLD\,  4217
SUMMARY:Benowa Tavern Tournament
DESCRIPTION:\nhttps://gcbgc.com.au/events/benowa-tavern-tournament/var/ri-1
 6.l-L1
URL:https://gcbgc.com.au/events/benowa-tavern-tournament/var/ri-16.l-L1
END:VEVENT
END:VCALENDAR